BEGIN:VCALENDAR
VERSION:2.0
PRODID:spatie/icalendar-generator
DESCRIPTION:Events from Savannah Legacy Academy
X-WR-CALDESC:Events from Savannah Legacy Academy
REFRESH-INTERVAL;VALUE=DURATION:PT1440M
X-PUBLISHED-TTL:PT1440M
BEGIN:VTIMEZONE
TZID:Etc/GMT+0
BEGIN:STANDARD
DTSTART:20220801T000000Z
TZOFFSETFROM:+0000
TZOFFSETTO:+0000
END:STANDARD
END:VTIMEZONE
BEGIN:VTIMEZONE
TZID:UTC
BEGIN:STANDARD
DTSTART:20250727T130837Z
TZOFFSETFROM:+0000
TZOFFSETTO:+0000
END:STANDARD
END:VTIMEZONE
BEGIN:VEVENT
UID:64-43
DTSTAMP:20260423T130837Z
SUMMARY:Staff Planning Day
LOCATION:
ORGANIZER;CN=stephen:MAILTO:stephen@thesabresolution.com
DTSTART;TZID=Etc/GMT+0;VALUE=DATE:20230428
DTEND;TZID=Etc/GMT+0;VALUE=DATE:20230429
X-ALT-DESC;FMTTYPE=TEXT/HTML:<p>The Savannah Legacy Academy school building
  will be closed to students &amp;amp\; teachers will not be having classes on 
 today.   Students will return to our regular schedule on Monday\, May 1st.
 </p>\n
CATEGORIES:General
URL;VALUE=URI:https://savlegacyacademy.com/mc-events/staff-planning-day-4/?
 mc_id=64
END:VEVENT
END:VCALENDAR