BEGIN:VCALENDAR
VERSION:2.0
PRODID:spatie/icalendar-generator
DESCRIPTION:Events from Savannah Legacy Academy
X-WR-CALDESC:Events from Savannah Legacy Academy
REFRESH-INTERVAL;VALUE=DURATION:PT1440M
X-PUBLISHED-TTL:PT1440M
BEGIN:VTIMEZONE
TZID:Etc/GMT+0
BEGIN:STANDARD
DTSTART:20250707T000000Z
TZOFFSETFROM:+0000
TZOFFSETTO:+0000
END:STANDARD
END:VTIMEZONE
BEGIN:VTIMEZONE
TZID:UTC
BEGIN:STANDARD
DTSTART:20250725T081033Z
TZOFFSETFROM:+0000
TZOFFSETTO:+0000
END:STANDARD
END:VTIMEZONE
BEGIN:VEVENT
UID:6-3
DTSTAMP:20260421T081033Z
SUMMARY:SPRING BREAK
LOCATION:
ORGANIZER;CN=stephen:MAILTO:stephen@thesabresolution.com
RRULE:FREQ=YEARLY;BYMONTH=04;BYDAY=03;UNTIL=20330316T000000Z
DTSTART;TZID=Etc/GMT+0;VALUE=DATE:20260403
DTEND;TZID=Etc/GMT+0;VALUE=DATE:20260409
X-ALT-DESC;FMTTYPE=TEXT/HTML:<p>The Savannah Legacy Academy school building
  will be closed &amp;amp\; teachers will not be having classes on those days. 
 We will return to our regular schedule on Monday\, April 10th.</p>\n<p>Beg
 ins : April 3rd 2023\, 6:48 am</p>\n
CATEGORIES:General
URL;VALUE=URI:https://savlegacyacademy.com/mc-events/spring-break/?mc_id=6
END:VEVENT
END:VCALENDAR