BEGIN:VCALENDAR
VERSION:2.0
PRODID:spatie/icalendar-generator
DESCRIPTION:Events from Savannah Legacy Academy
X-WR-CALDESC:Events from Savannah Legacy Academy
REFRESH-INTERVAL;VALUE=DURATION:PT1440M
X-PUBLISHED-TTL:PT1440M
BEGIN:VTIMEZONE
TZID:Etc/GMT+0
BEGIN:STANDARD
DTSTART:20250711T000000Z
TZOFFSETFROM:+0000
TZOFFSETTO:+0000
END:STANDARD
END:VTIMEZONE
BEGIN:VTIMEZONE
TZID:UTC
BEGIN:STANDARD
DTSTART:20250725T093151Z
TZOFFSETFROM:+0000
TZOFFSETTO:+0000
END:STANDARD
END:VTIMEZONE
BEGIN:VEVENT
UID:16-4
DTSTAMP:20260421T093151Z
SUMMARY:GOOD FRIDAY
LOCATION:
ORGANIZER;CN=stephen:MAILTO:stephen@thesabresolution.com
RRULE:FREQ=YEARLY;BYMONTH=04;BYDAY=07;UNTIL=20330301T000000Z
DTSTART;TZID=Etc/GMT+0;VALUE=DATE:20260407
DTEND;TZID=Etc/GMT+0;VALUE=DATE:20260408
X-ALT-DESC;FMTTYPE=TEXT/HTML:<p>Good Friday -- School-wide holiday for staf
 f &amp;amp\; students. There will be no classes today.</p>\n<p>Begins : April 
 7th 2023\, 8:28 am</p>\n
CATEGORIES:General
URL;VALUE=URI:https://savlegacyacademy.com/mc-events/good-friday/?mc_id=16
END:VEVENT
END:VCALENDAR